BEGIN:VCALENDAR
VERSION:2.0
PRODID:-//Woodbridge Islamic School - ECPv6.15.20//NONSGML v1.0//EN
CALSCALE:GREGORIAN
METHOD:PUBLISH
X-ORIGINAL-URL:https://wischools.org
X-WR-CALDESC:Events for Woodbridge Islamic School
REFRESH-INTERVAL;VALUE=DURATION:PT1H
X-Robots-Tag:noindex
X-PUBLISHED-TTL:PT1H
BEGIN:VTIMEZONE
TZID:UTC
BEGIN:STANDARD
TZOFFSETFROM:+0000
TZOFFSETTO:+0000
TZNAME:UTC
DTSTART:20240101T000000
END:STANDARD
END:VTIMEZONE
BEGIN:VEVENT
DTSTART;TZID=UTC:20250901T080000
DTEND;TZID=UTC:20250901T170000
DTSTAMP:20260423T002318
CREATED:20250805T051502Z
LAST-MODIFIED:20250805T051502Z
UID:42492-1756713600-1756746000@wischools.org
SUMMARY:Labor Day holiday (schools and offices closed)
DESCRIPTION:
URL:https://wischools.org/event/labor-day-holiday-schools-and-offices-closed/
LOCATION:Woodbridge Islamic School\, 13385 Minnieville Rd\, Woodbridge\, VA\, 22192\, United States
END:VEVENT
BEGIN:VEVENT
DTSTART;TZID=UTC:20250929T080000
DTEND;TZID=UTC:20250929T170000
DTSTAMP:20260423T002318
CREATED:20250805T051536Z
LAST-MODIFIED:20250805T051536Z
UID:42494-1759132800-1759165200@wischools.org
SUMMARY:Professional Development Day (no school for students)
DESCRIPTION:
URL:https://wischools.org/event/professional-development-day-no-school-for-students/
LOCATION:Woodbridge Islamic School\, 13385 Minnieville Rd\, Woodbridge\, VA\, 22192\, United States
END:VEVENT
END:VCALENDAR