BEGIN:VCALENDAR
VERSION:2.0
PRODID:-//Woodbridge Islamic School - ECPv6.15.20//NONSGML v1.0//EN
CALSCALE:GREGORIAN
METHOD:PUBLISH
X-WR-CALNAME:Woodbridge Islamic School
X-ORIGINAL-URL:https://wischools.org
X-WR-CALDESC:Events for Woodbridge Islamic School
REFRESH-INTERVAL;VALUE=DURATION:PT1H
X-Robots-Tag:noindex
X-PUBLISHED-TTL:PT1H
BEGIN:VTIMEZONE
TZID:UTC
BEGIN:STANDARD
TZOFFSETFROM:+0000
TZOFFSETTO:+0000
TZNAME:UTC
DTSTART:20220101T000000
END:STANDARD
END:VTIMEZONE
BEGIN:VEVENT
DTSTART;TZID=UTC:20230729T110000
DTEND;TZID=UTC:20230729T170000
DTSTAMP:20260423T014658
CREATED:20230720T195446Z
LAST-MODIFIED:20230720T195446Z
UID:5538-1690628400-1690650000@wischools.org
SUMMARY:Family Fun Day: 11AM – 5 PM (food | games | moon bounce | and more)
DESCRIPTION:Location: \n13385 Minnieville Rd\, Woodbridge\, VA 22192 \nemail: info@wischools.org
URL:https://wischools.org/event/family-fun-day-11am-5-pm-food-games-moon-bounce-and-more/
END:VEVENT
END:VCALENDAR