BEGIN:VCALENDAR
VERSION:2.0
PRODID:-//Woodbridge Islamic School - ECPv6.15.20//NONSGML v1.0//EN
CALSCALE:GREGORIAN
METHOD:PUBLISH
X-WR-CALNAME:Woodbridge Islamic School
X-ORIGINAL-URL:https://wischools.org
X-WR-CALDESC:Events for Woodbridge Islamic School
REFRESH-INTERVAL;VALUE=DURATION:PT1H
X-Robots-Tag:noindex
X-PUBLISHED-TTL:PT1H
BEGIN:VTIMEZONE
TZID:America/New_York
BEGIN:DAYLIGHT
TZOFFSETFROM:-0500
TZOFFSETTO:-0400
TZNAME:EDT
DTSTART:20230312T070000
END:DAYLIGHT
BEGIN:STANDARD
TZOFFSETFROM:-0400
TZOFFSETTO:-0500
TZNAME:EST
DTSTART:20231105T060000
END:STANDARD
BEGIN:DAYLIGHT
TZOFFSETFROM:-0500
TZOFFSETTO:-0400
TZNAME:EDT
DTSTART:20240310T070000
END:DAYLIGHT
BEGIN:STANDARD
TZOFFSETFROM:-0400
TZOFFSETTO:-0500
TZNAME:EST
DTSTART:20241103T060000
END:STANDARD
BEGIN:DAYLIGHT
TZOFFSETFROM:-0500
TZOFFSETTO:-0400
TZNAME:EDT
DTSTART:20250309T070000
END:DAYLIGHT
BEGIN:STANDARD
TZOFFSETFROM:-0400
TZOFFSETTO:-0500
TZNAME:EST
DTSTART:20251102T060000
END:STANDARD
BEGIN:DAYLIGHT
TZOFFSETFROM:-0500
TZOFFSETTO:-0400
TZNAME:EDT
DTSTART:20260308T070000
END:DAYLIGHT
BEGIN:STANDARD
TZOFFSETFROM:-0400
TZOFFSETTO:-0500
TZNAME:EST
DTSTART:20261101T060000
END:STANDARD
END:VTIMEZONE
BEGIN:VTIMEZONE
TZID:UTC
BEGIN:STANDARD
TZOFFSETFROM:+0000
TZOFFSETTO:+0000
TZNAME:UTC
DTSTART:20230101T000000
END:STANDARD
END:VTIMEZONE
BEGIN:VEVENT
DTSTART;VALUE=DATE:20250526
DTEND;VALUE=DATE:20250527
DTSTAMP:20260422T230121
CREATED:20230704T213651Z
LAST-MODIFIED:20230704T213651Z
UID:5495-1748217600-1748303999@wischools.org
SUMMARY:Memorial Day (schools and offices closed)
DESCRIPTION:
URL:https://wischools.org/event/may-27-memorial-day-schools-and-offices-closed/
END:VEVENT
BEGIN:VEVENT
DTSTART;VALUE=DATE:20250428
DTEND;VALUE=DATE:20250429
DTSTAMP:20260422T230121
CREATED:20240816T160951Z
LAST-MODIFIED:20240816T160951Z
UID:7189-1745798400-1745884799@wischools.org
SUMMARY:Professional Development (Staff only\, no school for students)
DESCRIPTION:
URL:https://wischools.org/event/professional-development-staff-only-no-school-for-students-2/
END:VEVENT
BEGIN:VEVENT
DTSTART;VALUE=DATE:20250419
DTEND;VALUE=DATE:20250420
DTSTAMP:20260422T230121
CREATED:20240816T160711Z
LAST-MODIFIED:20240816T160711Z
UID:7187-1745020800-1745107199@wischools.org
SUMMARY:Open House 2025
DESCRIPTION:Open House to host student and there families to meet and greet school staff and tour the school visibility.
URL:https://wischools.org/event/open-house-2025/
END:VEVENT
BEGIN:VEVENT
DTSTART;VALUE=DATE:20250331
DTEND;VALUE=DATE:20250405
DTSTAMP:20260422T230121
CREATED:20230704T213413Z
LAST-MODIFIED:20230704T213413Z
UID:5489-1743379200-1743811199@wischools.org
SUMMARY:Eid al-Fitr Holiday (schools and offices closed)
DESCRIPTION:
URL:https://wischools.org/event/april-10-12-holiday-schools-and-offices-closed-in-observance-of-eid-al-fitr/
END:VEVENT
BEGIN:VEVENT
DTSTART;VALUE=DATE:20250328
DTEND;VALUE=DATE:20250329
DTSTAMP:20260422T230121
CREATED:20230704T211414Z
LAST-MODIFIED:20230704T211414Z
UID:5470-1743120000-1743206399@wischools.org
SUMMARY:Parent – Teacher Conference Day (No School for Students)
DESCRIPTION:
URL:https://wischools.org/event/october-25-early-release-staff-meeting/
END:VEVENT
BEGIN:VEVENT
DTSTART;VALUE=DATE:20250327
DTEND;VALUE=DATE:20250328
DTSTAMP:20260422T230121
CREATED:20240816T155652Z
LAST-MODIFIED:20240816T155652Z
UID:7179-1743033600-1743119999@wischools.org
SUMMARY:Professional Development (Staff only\, no school for students)
DESCRIPTION:
URL:https://wischools.org/event/professional-development-staff-only-no-school-for-students/
END:VEVENT
BEGIN:VEVENT
DTSTART;VALUE=DATE:20250326
DTEND;VALUE=DATE:20250327
DTSTAMP:20260422T230121
CREATED:20230903T195555Z
LAST-MODIFIED:20230903T195555Z
UID:5876-1742947200-1743033599@wischools.org
SUMMARY:P3: Last day of the Third marking period
DESCRIPTION:Grades will be finalized for the 3rd period of the school year. 3rd Progress Report will be made available after March 18th.
URL:https://wischools.org/event/march-13-last-day-of-the-third-marking-period/
END:VEVENT
BEGIN:VEVENT
DTSTART;VALUE=DATE:20250307
DTEND;VALUE=DATE:20250308
DTSTAMP:20260422T230121
CREATED:20241209T030310Z
LAST-MODIFIED:20241209T030310Z
UID:24236-1741305600-1741391999@wischools.org
SUMMARY:March 7: Lockdown Drill
DESCRIPTION:
URL:https://wischools.org/event/march-7-lockdown-drill/
END:VEVENT
BEGIN:VEVENT
DTSTART;VALUE=DATE:20250224
DTEND;VALUE=DATE:20250225
DTSTAMP:20260422T230121
CREATED:20230128T215251Z
LAST-MODIFIED:20230128T215251Z
UID:4105-1740355200-1740441599@wischools.org
SUMMARY:Professional Development (Staff only\, no school for students)
DESCRIPTION:
URL:https://wischools.org/event/teacher-professional-development-workday-no-school-for-students/
END:VEVENT
BEGIN:VEVENT
DTSTART;VALUE=DATE:20250217
DTEND;VALUE=DATE:20250218
DTSTAMP:20260422T230121
CREATED:20230128T215547Z
LAST-MODIFIED:20230128T215547Z
UID:4133-1739750400-1739836799@wischools.org
SUMMARY:Presidents Day Holiday (schools and offices closed)
DESCRIPTION:Celebration of President George Washington.
URL:https://wischools.org/event/washingtons-birthday-presidents-day-holiday-schools-and-offices-closed-2/
END:VEVENT
BEGIN:VEVENT
DTSTART;VALUE=DATE:20250207
DTEND;VALUE=DATE:20250208
DTSTAMP:20260422T230121
CREATED:20241209T030151Z
LAST-MODIFIED:20241209T030151Z
UID:24234-1738886400-1738972799@wischools.org
SUMMARY:February 7: Fire Drill
DESCRIPTION:
URL:https://wischools.org/event/february-7-fire-drill/
END:VEVENT
BEGIN:VEVENT
DTSTART;VALUE=DATE:20250128
DTEND;VALUE=DATE:20250129
DTSTAMP:20260422T230121
CREATED:20240816T152732Z
LAST-MODIFIED:20240816T152732Z
UID:5859-1738022400-1738108799@wischools.org
SUMMARY:Parent – Teacher Conference Day (No School for Students)
DESCRIPTION:
URL:https://wischools.org/event/parent-teacher-conference-day-no-school-for-students/
END:VEVENT
BEGIN:VEVENT
DTSTART;VALUE=DATE:20250127
DTEND;VALUE=DATE:20250128
DTSTAMP:20260422T230121
CREATED:20241209T025913Z
LAST-MODIFIED:20241209T025913Z
UID:24232-1737936000-1738022399@wischools.org
SUMMARY:January 27: Professional Development (Staff only\, no school for students)
DESCRIPTION:
URL:https://wischools.org/event/january-27-professional-development-staff-only-no-school-for-students/
END:VEVENT
BEGIN:VEVENT
DTSTART;VALUE=DATE:20250124
DTEND;VALUE=DATE:20250125
DTSTAMP:20260422T230121
CREATED:20240816T154435Z
LAST-MODIFIED:20240816T154435Z
UID:7164-1737676800-1737763199@wischools.org
SUMMARY:P2: Last day of the second marking period
DESCRIPTION:Grades for the first semester (first and second period) will be finalized and sent for processing.
URL:https://wischools.org/event/p2-last-day-of-the-second-marking-period/
END:VEVENT
BEGIN:VEVENT
DTSTART;VALUE=DATE:20250124
DTEND;VALUE=DATE:20250125
DTSTAMP:20260422T230121
CREATED:20230903T195428Z
LAST-MODIFIED:20230903T195428Z
UID:5874-1737676800-1737763199@wischools.org
SUMMARY:Q1: Last day of the first semester
DESCRIPTION:Grades for the first semester (first and second period) will be finalized and sent for processing.
URL:https://wischools.org/event/january-17-last-day-of-the-first-semester/
END:VEVENT
BEGIN:VEVENT
DTSTART;VALUE=DATE:20250120
DTEND;VALUE=DATE:20250121
DTSTAMP:20260422T230121
CREATED:20230128T215346Z
LAST-MODIFIED:20230128T215346Z
UID:4130-1737331200-1737417599@wischools.org
SUMMARY:Martin Luther King Jr. Holiday (schools and offices closed)
DESCRIPTION:
URL:https://wischools.org/event/martin-luther-king-jr-holiday-schools-and-offices-closed/
END:VEVENT
BEGIN:VEVENT
DTSTART;VALUE=DATE:20250106
DTEND;VALUE=DATE:20250107
DTSTAMP:20260422T230121
CREATED:20230128T215346Z
LAST-MODIFIED:20230128T215346Z
UID:4129-1736121600-1736207999@wischools.org
SUMMARY:January 2025: School Reopens
DESCRIPTION:School Reopens on Monday after Winter Break.
URL:https://wischools.org/event/school-reopens/
END:VEVENT
BEGIN:VEVENT
DTSTART;VALUE=DATE:20250101
DTEND;VALUE=DATE:20250102
DTSTAMP:20260422T230121
CREATED:20230128T215308Z
LAST-MODIFIED:20230128T215308Z
UID:4116-1735689600-1735775999@wischools.org
SUMMARY:Professional Development (Staff only\, no school for students)
DESCRIPTION:
URL:https://wischools.org/event/teacher-professional-development-workday-no-school-for-students-3/
END:VEVENT
BEGIN:VEVENT
DTSTART;TZID=America/New_York:20241223T080000
DTEND;TZID=America/New_York:20250103T170000
DTSTAMP:20260422T230121
CREATED:20230704T212000Z
LAST-MODIFIED:20230704T212000Z
UID:5477-1734940800-1735923600@wischools.org
SUMMARY:Winter break (no school for all students\, schools and offices will be closed)
DESCRIPTION:Offices will be closed December 24\, 25 and January 1st.
URL:https://wischools.org/event/december-18-january-1-winter-break-no-school-for-all-students-schools-and-offices-will-be-closed/
END:VEVENT
BEGIN:VEVENT
DTSTART;VALUE=DATE:20241202
DTEND;VALUE=DATE:20241203
DTSTAMP:20260422T230121
CREATED:20230128T215252Z
LAST-MODIFIED:20230128T215252Z
UID:4109-1733097600-1733183999@wischools.org
SUMMARY:Professional Development (Staff only\, no school for Students)
DESCRIPTION:
URL:https://wischools.org/event/teacher-professional-development-workday-no-school-for-students-2/
END:VEVENT
BEGIN:VEVENT
DTSTART;TZID=America/New_York:20241127T000000
DTEND;TZID=America/New_York:20241129T000000
DTSTAMP:20260422T230121
CREATED:20230128T215330Z
LAST-MODIFIED:20230128T215330Z
UID:4125-1732665600-1732838400@wischools.org
SUMMARY:Thanksgiving Break (schools and offices closed to the public)
DESCRIPTION:
URL:https://wischools.org/event/thanksgiving-break-schools-and-offices-closed-to-the-public/
END:VEVENT
BEGIN:VEVENT
DTSTART;VALUE=DATE:20241031
DTEND;VALUE=DATE:20241101
DTSTAMP:20260422T230121
CREATED:20230903T195256Z
LAST-MODIFIED:20230903T195256Z
UID:5871-1730332800-1730419199@wischools.org
SUMMARY:P1: Last day of the First marking period
DESCRIPTION:Grades for the first marking period will be finalized and sent for processing.
URL:https://wischools.org/event/october-18-last-day-of-the-first-marking-period/
END:VEVENT
BEGIN:VEVENT
DTSTART;VALUE=DATE:20241028
DTEND;VALUE=DATE:20241029
DTSTAMP:20260422T230121
CREATED:20230704T211608Z
LAST-MODIFIED:20230704T211608Z
UID:5472-1730073600-1730159999@wischools.org
SUMMARY:October: Teacher Professional Development Day (no school for all students) – Canceled
DESCRIPTION:
URL:https://wischools.org/event/november-6-teacher-professional-development-day-no-school-for-all-students/
END:VEVENT
BEGIN:VEVENT
DTSTART;VALUE=DATE:20240930
DTEND;VALUE=DATE:20241001
DTSTAMP:20260422T230121
CREATED:20230128T215547Z
LAST-MODIFIED:20230128T215547Z
UID:4132-1727654400-1727740799@wischools.org
SUMMARY:September: Teacher Professional Development/Workday (no school for students)
DESCRIPTION:
URL:https://wischools.org/event/teacher-professional-development-workday-no-school-for-students-4/
END:VEVENT
BEGIN:VEVENT
DTSTART;VALUE=DATE:20240902
DTEND;VALUE=DATE:20240903
DTSTAMP:20260422T230121
CREATED:20230128T215309Z
LAST-MODIFIED:20230128T215309Z
UID:4119-1725235200-1725321599@wischools.org
SUMMARY:September: Labor Day Weekend Holiday (schools and offices closed)
DESCRIPTION:
URL:https://wischools.org/event/labor-day-weekend-holiday-schools-and-offices-closed/
END:VEVENT
BEGIN:VEVENT
DTSTART;VALUE=DATE:20240830
DTEND;VALUE=DATE:20240831
DTSTAMP:20260422T230121
CREATED:20230128T215309Z
LAST-MODIFIED:20230128T215309Z
UID:4118-1724976000-1725062399@wischools.org
SUMMARY:August: Labor Day Weekend Holiday (schools and offices closed to the public)
DESCRIPTION:
URL:https://wischools.org/event/labor-day-weekend-holiday-schools-and-offices-closed-to-the-public/
END:VEVENT
BEGIN:VEVENT
DTSTART;VALUE=DATE:20240819
DTEND;VALUE=DATE:20240820
DTSTAMP:20260422T230121
CREATED:20230128T215309Z
LAST-MODIFIED:20230128T215309Z
UID:4117-1724025600-1724111999@wischools.org
SUMMARY:First Day of School
DESCRIPTION:The first day of the school year. Welcome!
URL:https://wischools.org/event/first-day-of-school/
END:VEVENT
BEGIN:VEVENT
DTSTART;TZID=UTC:20240812T000000
DTEND;TZID=UTC:20240816T000000
DTSTAMP:20260422T230121
CREATED:20230128T215253Z
LAST-MODIFIED:20230128T215253Z
UID:4111-1723420800-1723766400@wischools.org
SUMMARY:August: Pre-Planning (Staff Only)
DESCRIPTION:
URL:https://wischools.org/event/all-teachers-report/
END:VEVENT
BEGIN:VEVENT
DTSTART;VALUE=DATE:20240521
DTEND;VALUE=DATE:20240522
DTSTAMP:20260422T230121
CREATED:20230704T213555Z
LAST-MODIFIED:20230704T213555Z
UID:5493-1716249600-1716335999@wischools.org
SUMMARY:May 21: Final Progress Report
DESCRIPTION:
URL:https://wischools.org/event/may-22-early-release-staff-meeting/
END:VEVENT
BEGIN:VEVENT
DTSTART;VALUE=DATE:20240318
DTEND;VALUE=DATE:20240319
DTSTAMP:20260422T230122
CREATED:20230704T213307Z
LAST-MODIFIED:20230704T213307Z
UID:5487-1710720000-1710806399@wischools.org
SUMMARY:March 18: Third Progress Report
DESCRIPTION:
URL:https://wischools.org/event/march-20-early-release-staff-meetings/
END:VEVENT
END:VCALENDAR