BEGIN:VCALENDAR
VERSION:2.0
PRODID:-//Woodbridge Islamic School - ECPv6.15.20//NONSGML v1.0//EN
CALSCALE:GREGORIAN
METHOD:PUBLISH
X-ORIGINAL-URL:https://wischools.org
X-WR-CALDESC:Events for Woodbridge Islamic School
REFRESH-INTERVAL;VALUE=DURATION:PT1H
X-Robots-Tag:noindex
X-PUBLISHED-TTL:PT1H
BEGIN:VTIMEZONE
TZID:UTC
BEGIN:STANDARD
TZOFFSETFROM:+0000
TZOFFSETTO:+0000
TZNAME:UTC
DTSTART:20250101T000000
END:STANDARD
END:VTIMEZONE
BEGIN:VEVENT
DTSTART;VALUE=DATE:20260610
DTEND;VALUE=DATE:20260611
DTSTAMP:20260422T221140
CREATED:20260409T171743Z
LAST-MODIFIED:20260409T171743Z
UID:43854-1781049600-1781135999@wischools.org
SUMMARY:Fourth Quarter ends
DESCRIPTION:
URL:https://wischools.org/event/fourth-quarter-ends/
END:VEVENT
BEGIN:VEVENT
DTSTART;TZID=UTC:20260611T090000
DTEND;TZID=UTC:20260611T170000
DTSTAMP:20260422T221140
CREATED:20260409T172100Z
LAST-MODIFIED:20260409T172100Z
UID:43856-1781168400-1781197200@wischools.org
SUMMARY:Award Ceremony
DESCRIPTION:
URL:https://wischools.org/event/award-ceremony/
END:VEVENT
BEGIN:VEVENT
DTSTART;TZID=UTC:20260613T090000
DTEND;TZID=UTC:20260613T170000
DTSTAMP:20260422T221140
CREATED:20260409T172242Z
LAST-MODIFIED:20260409T172242Z
UID:43858-1781341200-1781370000@wischools.org
SUMMARY:Graduation Day
DESCRIPTION:
URL:https://wischools.org/event/graduation-day/
END:VEVENT
BEGIN:VEVENT
DTSTART;TZID=UTC:20260616T080000
DTEND;TZID=UTC:20260616T170000
DTSTAMP:20260422T221140
CREATED:20250805T070021Z
LAST-MODIFIED:20260331T172305Z
UID:42545-1781596800-1781629200@wischools.org
SUMMARY:Last day of school
DESCRIPTION:
URL:https://wischools.org/event/last-day-of-school-2/
LOCATION:Woodbridge Islamic School\, 13385 Minnieville Rd\, Woodbridge\, VA\, 22192\, United States
END:VEVENT
END:VCALENDAR