BEGIN:VCALENDAR
VERSION:2.0
PRODID:-//Woodbridge Islamic School - ECPv6.15.20//NONSGML v1.0//EN
CALSCALE:GREGORIAN
METHOD:PUBLISH
X-ORIGINAL-URL:https://wischools.org
X-WR-CALDESC:Events for Woodbridge Islamic School
REFRESH-INTERVAL;VALUE=DURATION:PT1H
X-Robots-Tag:noindex
X-PUBLISHED-TTL:PT1H
BEGIN:VTIMEZONE
TZID:UTC
BEGIN:STANDARD
TZOFFSETFROM:+0000
TZOFFSETTO:+0000
TZNAME:UTC
DTSTART:20250101T000000
END:STANDARD
END:VTIMEZONE
BEGIN:VEVENT
DTSTART;TZID=UTC:20260311T080000
DTEND;TZID=UTC:20260320T170000
DTSTAMP:20260422T163531
CREATED:20250906T062150Z
LAST-MODIFIED:20250906T062150Z
UID:42828-1773216000-1774026000@wischools.org
SUMMARY:Eid break/spring break will begin on Wednesday March 11th\, 2026 until March 20th.
DESCRIPTION:
URL:https://wischools.org/event/eid-break-spring-break-will-begin-on-wednesday-march-11th-2026-until-march-20th/
LOCATION:Woodbridge Islamic School\, 13385 Minnieville Rd\, Woodbridge\, VA\, 22192\, United States
END:VEVENT
END:VCALENDAR