BEGIN:VCALENDAR
VERSION:2.0
PRODID:-//Woodbridge Islamic School - ECPv6.15.20//NONSGML v1.0//EN
CALSCALE:GREGORIAN
METHOD:PUBLISH
X-ORIGINAL-URL:https://wischools.org
X-WR-CALDESC:Events for Woodbridge Islamic School
REFRESH-INTERVAL;VALUE=DURATION:PT1H
X-Robots-Tag:noindex
X-PUBLISHED-TTL:PT1H
BEGIN:VTIMEZONE
TZID:UTC
BEGIN:STANDARD
TZOFFSETFROM:+0000
TZOFFSETTO:+0000
TZNAME:UTC
DTSTART:20250101T000000
END:STANDARD
END:VTIMEZONE
BEGIN:VEVENT
DTSTART;TZID=UTC:20260126T080000
DTEND;TZID=UTC:20260126T170000
DTSTAMP:20260422T183356
CREATED:20250805T062338Z
LAST-MODIFIED:20260114T162828Z
UID:42525-1769414400-1769446800@wischools.org
SUMMARY:Professional Development Day (no school for students)
DESCRIPTION:
URL:https://wischools.org/event/parent-teacher-conference-no-school-for-students/
LOCATION:Woodbridge Islamic School\, 13385 Minnieville Rd\, Woodbridge\, VA\, 22192\, United States
END:VEVENT
END:VCALENDAR