BEGIN:VCALENDAR
VERSION:2.0
PRODID:-//Woodbridge Islamic School - ECPv6.15.20//NONSGML v1.0//EN
CALSCALE:GREGORIAN
METHOD:PUBLISH
X-WR-CALNAME:Woodbridge Islamic School
X-ORIGINAL-URL:https://wischools.org
X-WR-CALDESC:Events for Woodbridge Islamic School
REFRESH-INTERVAL;VALUE=DURATION:PT1H
X-Robots-Tag:noindex
X-PUBLISHED-TTL:PT1H
BEGIN:VTIMEZONE
TZID:UTC
BEGIN:STANDARD
TZOFFSETFROM:+0000
TZOFFSETTO:+0000
TZNAME:UTC
DTSTART:20240101T000000
END:STANDARD
END:VTIMEZONE
BEGIN:VEVENT
DTSTART;TZID=UTC:20251126T080000
DTEND;TZID=UTC:20251126T170000
DTSTAMP:20260422T225524
CREATED:20250906T061817Z
LAST-MODIFIED:20250906T061817Z
UID:42818-1764144000-1764176400@wischools.org
SUMMARY:Wednesday November 26th will now be a school day
DESCRIPTION:
URL:https://wischools.org/event/wednesday-november-26th-will-now-be-a-school-day/
LOCATION:Woodbridge Islamic School\, 13385 Minnieville Rd\, Woodbridge\, VA\, 22192\, United States
END:VEVENT
END:VCALENDAR